
BEGIN:VCALENDAR
VERSION:2.0
BEGIN:VEVENT
SUMMARY:Heise IT day Berlin
DTSTART:20251111T120000Z
DTEND:20251111T170000Z
DTSTAMP:20250818T160035Z
UID:event-1079-VirtuellerElternabend
DESCRIPTION:IT ist genau dein Ding? Besuche spannende Vorträge zu aktuellen Herausforderungen in der IT und informiere dich über einen der top IT-Dienstleister Deutschlands.
LOCATION:Berlin, Spreespeicher Stralauer Allee 2 10245 Berlin
ORGANIZER:BWI GmbH
STATUS:CONFIRMED
PRIORITY:5
END:VEVENT
END:VCALENDAR

